BEGIN:VCALENDAR
VERSION:2.0
PRODID:-//Freie Wählergruppe Waldsee e.V. - ECPv6.15.20//NONSGML v1.0//EN
CALSCALE:GREGORIAN
METHOD:PUBLISH
X-WR-CALNAME:Freie Wählergruppe Waldsee e.V.
X-ORIGINAL-URL:https://fwgwaldsee.de
X-WR-CALDESC:Veranstaltungen für Freie Wählergruppe Waldsee e.V.
REFRESH-INTERVAL;VALUE=DURATION:PT1H
X-Robots-Tag:noindex
X-PUBLISHED-TTL:PT1H
BEGIN:VTIMEZONE
TZID:Europe/Berlin
BEGIN:DAYLIGHT
TZOFFSETFROM:+0100
TZOFFSETTO:+0200
TZNAME:CEST
DTSTART:20250330T010000
END:DAYLIGHT
BEGIN:STANDARD
TZOFFSETFROM:+0200
TZOFFSETTO:+0100
TZNAME:CET
DTSTART:20251026T010000
END:STANDARD
BEGIN:DAYLIGHT
TZOFFSETFROM:+0100
TZOFFSETTO:+0200
TZNAME:CEST
DTSTART:20260329T010000
END:DAYLIGHT
BEGIN:STANDARD
TZOFFSETFROM:+0200
TZOFFSETTO:+0100
TZNAME:CET
DTSTART:20261025T010000
END:STANDARD
BEGIN:DAYLIGHT
TZOFFSETFROM:+0100
TZOFFSETTO:+0200
TZNAME:CEST
DTSTART:20270328T010000
END:DAYLIGHT
BEGIN:STANDARD
TZOFFSETFROM:+0200
TZOFFSETTO:+0100
TZNAME:CET
DTSTART:20271031T010000
END:STANDARD
END:VTIMEZONE
BEGIN:VEVENT
DTSTART;TZID=Europe/Berlin:20260429T183000
DTEND;TZID=Europe/Berlin:20260429T220000
DTSTAMP:20260423T145944
CREATED:20260416T142049Z
LAST-MODIFIED:20260416T142104Z
UID:611-1777487400-1777500000@fwgwaldsee.de
SUMMARY:OG Waldsee: Pfalz-Tram – Infoveranstaltung
DESCRIPTION:Pfalz-Tram – Infoveranstaltung der Ortsgemeinde Waldsee für Waldseeer Bürger am 29.04.2026\, um 18.30 Uhr\, in der Kulturhalle in Waldsee
URL:https://fwgwaldsee.de/event/og-waldsee-pfalz-tram-infoveranstaltung/
LOCATION:Kulturhalle\, Schifferstadter Str. 2\, Waldsee\, Deutschland\, 67165\, Germany
CATEGORIES:Infoveranstaltung
END:VEVENT
BEGIN:VEVENT
DTSTART;TZID=Europe/Berlin:20260504T190000
DTEND;TZID=Europe/Berlin:20260504T210000
DTSTAMP:20260423T145944
CREATED:20260109T003703Z
LAST-MODIFIED:20260419T113140Z
UID:87-1777921200-1777928400@fwgwaldsee.de
SUMMARY:Monatsversammlung
DESCRIPTION:Wie immer werden die aktuellen kommunalpolitischen Themen besprochen. Interessierte Mitbürgerinnen und Mitbürger sind jederzeit willkommen. \nBitte melden Sie sich bei Harald Paczinski\, Tel 06236 4494888\, an.
URL:https://fwgwaldsee.de/event/monatsversammlung-5/
LOCATION:Altes Rathaus\, Ludwigstraße 17\, Waldsee\, 67165\, Germany
CATEGORIES:FWG
END:VEVENT
BEGIN:VEVENT
DTSTART;TZID=Europe/Berlin:20260601T190000
DTEND;TZID=Europe/Berlin:20260601T210000
DTSTAMP:20260423T145944
CREATED:20260109T003726Z
LAST-MODIFIED:20260419T113147Z
UID:89-1780340400-1780347600@fwgwaldsee.de
SUMMARY:Monatsversammlung
DESCRIPTION:Wie immer werden die aktuellen kommunalpolitischen Themen besprochen. Interessierte Mitbürgerinnen und Mitbürger sind jederzeit willkommen. \nBitte melden Sie sich bei Harald Paczinski\, Tel 06236 4494888\, an.
URL:https://fwgwaldsee.de/event/monatsversammlung-6/
LOCATION:Altes Rathaus\, Ludwigstraße 17\, Waldsee\, 67165\, Germany
CATEGORIES:FWG
END:VEVENT
BEGIN:VEVENT
DTSTART;TZID=Europe/Berlin:20260706T190000
DTEND;TZID=Europe/Berlin:20260706T210000
DTSTAMP:20260423T145944
CREATED:20260109T003748Z
LAST-MODIFIED:20260419T113154Z
UID:91-1783364400-1783371600@fwgwaldsee.de
SUMMARY:Monatsversammlung
DESCRIPTION:Wie immer werden die aktuellen kommunalpolitischen Themen besprochen. Interessierte Mitbürgerinnen und Mitbürger sind jederzeit willkommen. \nBitte melden Sie sich bei Harald Paczinski\, Tel 06236 4494888\, an.
URL:https://fwgwaldsee.de/event/monatsversammlung-7/
LOCATION:Altes Rathaus\, Ludwigstraße 17\, Waldsee\, 67165\, Germany
CATEGORIES:FWG
END:VEVENT
BEGIN:VEVENT
DTSTART;TZID=Europe/Berlin:20260803T190000
DTEND;TZID=Europe/Berlin:20260803T210000
DTSTAMP:20260423T145944
CREATED:20260109T003812Z
LAST-MODIFIED:20260419T113201Z
UID:93-1785783600-1785790800@fwgwaldsee.de
SUMMARY:Monatsversammlung
DESCRIPTION:Wie immer werden die aktuellen kommunalpolitischen Themen besprochen. Interessierte Mitbürgerinnen und Mitbürger sind jederzeit willkommen. \nBitte melden Sie sich bei Harald Paczinski\, Tel 06236 4494888\, an.
URL:https://fwgwaldsee.de/event/monatsversammlung-8/
LOCATION:Altes Rathaus\, Ludwigstraße 17\, Waldsee\, 67165\, Germany
CATEGORIES:FWG
END:VEVENT
BEGIN:VEVENT
DTSTART;TZID=Europe/Berlin:20260907T190000
DTEND;TZID=Europe/Berlin:20260907T210000
DTSTAMP:20260423T145944
CREATED:20260109T003839Z
LAST-MODIFIED:20260419T113209Z
UID:95-1788807600-1788814800@fwgwaldsee.de
SUMMARY:Monatsversammlung
DESCRIPTION:Wie immer werden die aktuellen kommunalpolitischen Themen besprochen. Interessierte Mitbürgerinnen und Mitbürger sind jederzeit willkommen. \nBitte melden Sie sich bei Harald Paczinski\, Tel 06236 4494888\, an.
URL:https://fwgwaldsee.de/event/monatsversammlung-9/
LOCATION:Altes Rathaus\, Ludwigstraße 17\, Waldsee\, 67165\, Germany
CATEGORIES:FWG
END:VEVENT
BEGIN:VEVENT
DTSTART;TZID=Europe/Berlin:20261003T150000
DTEND;TZID=Europe/Berlin:20261003T220000
DTSTAMP:20260423T145944
CREATED:20260419T125547Z
LAST-MODIFIED:20260419T125547Z
UID:640-1791039600-1791064800@fwgwaldsee.de
SUMMARY:FWG Weinfest
DESCRIPTION:Für Jung und Alt\, wir freuen uns auf ihren Besuch!
URL:https://fwgwaldsee.de/event/fwg-weinfest/
LOCATION:Altes Rathaus\, Ludwigstraße 17\, Waldsee\, 67165\, Germany
CATEGORIES:FWG
END:VEVENT
BEGIN:VEVENT
DTSTART;TZID=Europe/Berlin:20261005T190000
DTEND;TZID=Europe/Berlin:20261005T210000
DTSTAMP:20260423T145944
CREATED:20260109T003901Z
LAST-MODIFIED:20260419T113214Z
UID:97-1791226800-1791234000@fwgwaldsee.de
SUMMARY:Monatsversammlung
DESCRIPTION:Wie immer werden die aktuellen kommunalpolitischen Themen besprochen. Interessierte Mitbürgerinnen und Mitbürger sind jederzeit willkommen. \nBitte melden Sie sich bei Harald Paczinski\, Tel 06236 4494888\, an.
URL:https://fwgwaldsee.de/event/monatsversammlung-10/
LOCATION:Altes Rathaus\, Ludwigstraße 17\, Waldsee\, 67165\, Germany
CATEGORIES:FWG
END:VEVENT
BEGIN:VEVENT
DTSTART;TZID=Europe/Berlin:20261102T190000
DTEND;TZID=Europe/Berlin:20261102T210000
DTSTAMP:20260423T145944
CREATED:20260109T003923Z
LAST-MODIFIED:20260419T113220Z
UID:99-1793646000-1793653200@fwgwaldsee.de
SUMMARY:Monatsversammlung
DESCRIPTION:Wie immer werden die aktuellen kommunalpolitischen Themen besprochen. Interessierte Mitbürgerinnen und Mitbürger sind jederzeit willkommen. \nBitte melden Sie sich bei Harald Paczinski\, Tel 06236 4494888\, an.
URL:https://fwgwaldsee.de/event/monatsversammlung-11/
LOCATION:Altes Rathaus\, Ludwigstraße 17\, Waldsee\, 67165\, Germany
CATEGORIES:FWG
END:VEVENT
BEGIN:VEVENT
DTSTART;TZID=Europe/Berlin:20261207T190000
DTEND;TZID=Europe/Berlin:20261207T210000
DTSTAMP:20260423T145944
CREATED:20260109T003950Z
LAST-MODIFIED:20260419T113226Z
UID:101-1796670000-1796677200@fwgwaldsee.de
SUMMARY:Monatsversammlung
DESCRIPTION:Wie immer werden die aktuellen kommunalpolitischen Themen besprochen. Interessierte Mitbürgerinnen und Mitbürger sind jederzeit willkommen. \nBitte melden Sie sich bei Harald Paczinski\, Tel 06236 4494888\, an.
URL:https://fwgwaldsee.de/event/monatsversammlung-12/
LOCATION:Altes Rathaus\, Ludwigstraße 17\, Waldsee\, 67165\, Germany
CATEGORIES:FWG
END:VEVENT
END:VCALENDAR