BEGIN:VCALENDAR
VERSION:2.0
PRODID:-//Freie Wählergruppe Waldsee e.V. - ECPv6.15.20//NONSGML v1.0//EN
CALSCALE:GREGORIAN
METHOD:PUBLISH
X-WR-CALNAME:Freie Wählergruppe Waldsee e.V.
X-ORIGINAL-URL:https://fwgwaldsee.de
X-WR-CALDESC:Veranstaltungen für Freie Wählergruppe Waldsee e.V.
REFRESH-INTERVAL;VALUE=DURATION:PT1H
X-Robots-Tag:noindex
X-PUBLISHED-TTL:PT1H
BEGIN:VTIMEZONE
TZID:Europe/Berlin
BEGIN:DAYLIGHT
TZOFFSETFROM:+0100
TZOFFSETTO:+0200
TZNAME:CEST
DTSTART:20250330T010000
END:DAYLIGHT
BEGIN:STANDARD
TZOFFSETFROM:+0200
TZOFFSETTO:+0100
TZNAME:CET
DTSTART:20251026T010000
END:STANDARD
BEGIN:DAYLIGHT
TZOFFSETFROM:+0100
TZOFFSETTO:+0200
TZNAME:CEST
DTSTART:20260329T010000
END:DAYLIGHT
BEGIN:STANDARD
TZOFFSETFROM:+0200
TZOFFSETTO:+0100
TZNAME:CET
DTSTART:20261025T010000
END:STANDARD
BEGIN:DAYLIGHT
TZOFFSETFROM:+0100
TZOFFSETTO:+0200
TZNAME:CEST
DTSTART:20270328T010000
END:DAYLIGHT
BEGIN:STANDARD
TZOFFSETFROM:+0200
TZOFFSETTO:+0100
TZNAME:CET
DTSTART:20271031T010000
END:STANDARD
END:VTIMEZONE
BEGIN:VEVENT
DTSTART;TZID=Europe/Berlin:20260330T190000
DTEND;TZID=Europe/Berlin:20260330T210000
DTSTAMP:20260423T182921
CREATED:20260109T003639Z
LAST-MODIFIED:20260302T185302Z
UID:85-1774897200-1774904400@fwgwaldsee.de
SUMMARY:Jahreshauptversammlung
DESCRIPTION:
URL:https://fwgwaldsee.de/event/monatsversammlung-4/
LOCATION:Altes Rathaus\, Ludwigstraße 17\, Waldsee\, 67165\, Germany
CATEGORIES:FWG
END:VEVENT
BEGIN:VEVENT
DTSTART;TZID=Europe/Berlin:20260322T080000
DTEND;TZID=Europe/Berlin:20260322T180000
DTSTAMP:20260423T182921
CREATED:20260216T065739Z
LAST-MODIFIED:20260216T065813Z
UID:518-1774166400-1774202400@fwgwaldsee.de
SUMMARY:Wahl zum 19. Landtag Rheinland-Pfalz
DESCRIPTION:
URL:https://fwgwaldsee.de/event/wahl-zum-19-landtag-rheinland-pfalz/
CATEGORIES:Wahlen
END:VEVENT
BEGIN:VEVENT
DTSTART;TZID=Europe/Berlin:20260302T190000
DTEND;TZID=Europe/Berlin:20260302T210000
DTSTAMP:20260423T182921
CREATED:20260109T003610Z
LAST-MODIFIED:20260419T113130Z
UID:83-1772478000-1772485200@fwgwaldsee.de
SUMMARY:Monatsversammlung
DESCRIPTION:Wie immer werden die aktuellen kommunalpolitischen Themen besprochen. Interessierte Mitbürgerinnen und Mitbürger sind jederzeit willkommen. \nBitte melden Sie sich bei Harald Paczinski\, Tel 06236 4494888\, an.
URL:https://fwgwaldsee.de/event/monatsversammlung-3/
LOCATION:Altes Rathaus\, Ludwigstraße 17\, Waldsee\, 67165\, Germany
CATEGORIES:FWG
END:VEVENT
BEGIN:VEVENT
DTSTART;TZID=Europe/Berlin:20260202T190000
DTEND;TZID=Europe/Berlin:20260202T213000
DTSTAMP:20260423T182921
CREATED:20260109T003500Z
LAST-MODIFIED:20260419T113121Z
UID:81-1770058800-1770067800@fwgwaldsee.de
SUMMARY:Monatsversammlung
DESCRIPTION:Wie immer werden die aktuellen kommunalpolitischen Themen besprochen. Interessierte Mitbürgerinnen und Mitbürger sind jederzeit willkommen. \nBitte melden Sie sich bei Harald Paczinski\, Tel 06236 4494888\, an.
URL:https://fwgwaldsee.de/event/monatsversammlung-2/
LOCATION:Altes Rathaus\, Ludwigstraße 17\, Waldsee\, 67165\, Germany
CATEGORIES:FWG
END:VEVENT
BEGIN:VEVENT
DTSTART;TZID=Europe/Berlin:20260105T190000
DTEND;TZID=Europe/Berlin:20260105T210000
DTSTAMP:20260423T182921
CREATED:20260109T003350Z
LAST-MODIFIED:20260419T113109Z
UID:79-1767639600-1767646800@fwgwaldsee.de
SUMMARY:Monatsversammlung
DESCRIPTION:Wie immer werden die aktuellen kommunalpolitischen Themen besprochen. Interessierte Mitbürgerinnen und Mitbürger sind jederzeit willkommen. \nBitte melden Sie sich bei Harald Paczinski\, Tel 06236 4494888\, an.
URL:https://fwgwaldsee.de/event/monatsversammlung/
LOCATION:Altes Rathaus\, Ludwigstraße 17\, Waldsee\, 67165\, Germany
CATEGORIES:FWG
END:VEVENT
END:VCALENDAR